BEGIN:VCALENDAR
VERSION:2.0
PRODID:-//Vassormi - ECPv6.15.17//NONSGML v1.0//EN
CALSCALE:GREGORIAN
METHOD:PUBLISH
X-WR-CALNAME:Vassormi
X-ORIGINAL-URL:https://www.vassormi.ro
X-WR-CALDESC:Evenimente pentru Vassormi
REFRESH-INTERVAL;VALUE=DURATION:PT1H
X-Robots-Tag:noindex
X-PUBLISHED-TTL:PT1H
BEGIN:VTIMEZONE
TZID:UTC
BEGIN:STANDARD
TZOFFSETFROM:+0000
TZOFFSETTO:+0000
TZNAME:UTC
DTSTART:20240101T000000
END:STANDARD
END:VTIMEZONE
BEGIN:VEVENT
DTSTART;TZID=UTC:20250515T190000
DTEND;TZID=UTC:20250515T210000
DTSTAMP:20260421T112826
CREATED:20250105T090441Z
LAST-MODIFIED:20250419T173717Z
UID:3403-1747335600-1747342800@www.vassormi.ro
SUMMARY:Ficat\, fabrica de întinerire- sustinut de Dr. Sorina Soescu
DESCRIPTION:
URL:https://www.vassormi.ro/eveniment/ficat-fabrica-de-intinerire-sustinut-de-dr-sorina-soescu/
LOCATION:On-line
CATEGORIES:Alchida Nature,Evenimente 2025
ATTACH;FMTTYPE=image/jpeg:https://www.vassormi.ro/wp-content/uploads/2025/01/webinar-1.jpg
END:VEVENT
BEGIN:VEVENT
DTSTART;TZID=UTC:20250416T190000
DTEND;TZID=UTC:20250416T210000
DTSTAMP:20260421T112826
CREATED:20250105T090344Z
LAST-MODIFIED:20250105T105026Z
UID:2932-1744830000-1744837200@www.vassormi.ro
SUMMARY:Circulația\, sângele și forța vieții
DESCRIPTION:
URL:https://www.vassormi.ro/eveniment/circulatia-sangele-si-forta-vietii/
LOCATION:On-line
CATEGORIES:Alexa Events,Evenimente 2025
ATTACH;FMTTYPE=image/jpeg:https://www.vassormi.ro/wp-content/uploads/2024/12/WhatsApp-Image-2024-12-14-at-11.16.42_3ca3e1e5.jpg
END:VEVENT
BEGIN:VEVENT
DTSTART;TZID=UTC:20250411T190000
DTEND;TZID=UTC:20250411T210000
DTSTAMP:20260421T112826
CREATED:20250105T090306Z
LAST-MODIFIED:20250310T151152Z
UID:3887-1744398000-1744405200@www.vassormi.ro
SUMMARY:Webinar Aprilie – Eliminăm? Pe unde?
DESCRIPTION:
URL:https://www.vassormi.ro/eveniment/webinar-aprilie-eliminam-pe-unde/
LOCATION:On-line
CATEGORIES:Evenimente 2025,Holistic Shop
ATTACH;FMTTYPE=image/png:https://www.vassormi.ro/wp-content/uploads/2025/03/Webinar-Eliminam_aprilie.png
END:VEVENT
BEGIN:VEVENT
DTSTART;TZID=UTC:20250411T190000
DTEND;TZID=UTC:20250411T210000
DTSTAMP:20260421T112826
CREATED:20250105T090251Z
LAST-MODIFIED:20250310T143654Z
UID:3872-1744398000-1744405200@www.vassormi.ro
SUMMARY:PACHET 2 WEBINARII DE PRIMĂVARĂ 2025
DESCRIPTION:
URL:https://www.vassormi.ro/eveniment/pachet-2-webinarii-de-primavara-2025/
LOCATION:On-line
CATEGORIES:Evenimente 2025,Holistic Shop
ATTACH;FMTTYPE=image/png:https://www.vassormi.ro/wp-content/uploads/2025/03/PACHET-2-WEBINARII-DE-PRIMAVARA.png
END:VEVENT
BEGIN:VEVENT
DTSTART;TZID=UTC:20250321T190000
DTEND;TZID=UTC:20250321T210000
DTSTAMP:20260421T112826
CREATED:20250105T090246Z
LAST-MODIFIED:20250701T112048Z
UID:3337-1742583600-1742590800@www.vassormi.ro
SUMMARY:Acceptarea
DESCRIPTION:
URL:https://www.vassormi.ro/eveniment/acceptarea/
LOCATION:On-line
CATEGORIES:Evenimente 2025,Vassormi
ATTACH;FMTTYPE=image/jpeg:https://www.vassormi.ro/wp-content/uploads/2024/12/1-2.jpg
END:VEVENT
BEGIN:VEVENT
DTSTART;TZID=UTC:20250314T190000
DTEND;TZID=UTC:20250314T210000
DTSTAMP:20260421T112826
CREATED:20250105T090156Z
LAST-MODIFIED:20250303T102730Z
UID:3397-1741978800-1741986000@www.vassormi.ro
SUMMARY:Rinichii și detoxifierea- sustinut de Dr. Sorina Soescu
DESCRIPTION:
URL:https://www.vassormi.ro/eveniment/rinichii-si-detoxifierea-sustinut-de-dr-sorina-soescu/
LOCATION:On-line
CATEGORIES:Alchida Nature,Evenimente 2025
ATTACH;FMTTYPE=image/jpeg:https://www.vassormi.ro/wp-content/uploads/2025/01/webinar.jpg
END:VEVENT
BEGIN:VEVENT
DTSTART;VALUE=DATE:20250310
DTEND;VALUE=DATE:20250311
DTSTAMP:20260421T112826
CREATED:20250310T152926Z
LAST-MODIFIED:20250310T152926Z
UID:3896-1741564800-1741651199@www.vassormi.ro
SUMMARY:Webinar Mai – Curățenia de primăvară. Despre fiere și ficat
DESCRIPTION:
URL:https://www.vassormi.ro/eveniment/webinar-mai-curatenia-de-primavara-despre-fiere-si-ficat/
LOCATION:On-line
CATEGORIES:Evenimente 2025,Holistic Shop
ATTACH;FMTTYPE=image/jpeg:https://www.vassormi.ro/wp-content/uploads/2025/03/Webinar-Mai-Holistic-Shop.jpeg
END:VEVENT
BEGIN:VEVENT
DTSTART;VALUE=DATE:20250310
DTEND;VALUE=DATE:20250311
DTSTAMP:20260421T112826
CREATED:20250310T151622Z
LAST-MODIFIED:20250310T151622Z
UID:3890-1741564800-1741651199@www.vassormi.ro
SUMMARY:Webinar Aprilie - Hapciu\, hapciu\, hapciu! Alergiile de primăvară Webinar Aprilie – Hapciu\, hapciu\, hapciu! Alergiile de primăvară
DESCRIPTION:
URL:https://www.vassormi.ro/eveniment/webinar-aprilie-hapciu-hapciu-hapciu-alergiile-de-primavara-webinar-aprilie-hapciu-hapciu-hapciu-alergiile-de-primavara/
LOCATION:On-line
CATEGORIES:Evenimente 2025,Holistic Shop
ATTACH;FMTTYPE=image/png:https://www.vassormi.ro/wp-content/uploads/2025/03/HAPCIU-postare-Facebook.png
END:VEVENT
BEGIN:VEVENT
DTSTART;VALUE=DATE:20250310
DTEND;VALUE=DATE:20250311
DTSTAMP:20260421T112826
CREATED:20250310T150431Z
LAST-MODIFIED:20250310T150431Z
UID:3884-1741564800-1741651199@www.vassormi.ro
SUMMARY:Webinar -Înapoi la școală! Cum ne pregătim?
DESCRIPTION:
URL:https://www.vassormi.ro/eveniment/webinar-inapoi-la-scoala-cum-ne-pregatim/
LOCATION:On-line
CATEGORIES:Evenimente 2025,Holistic Shop
ATTACH;FMTTYPE=image/png:https://www.vassormi.ro/wp-content/uploads/2025/03/Inapoi-la-scoala.png
END:VEVENT
BEGIN:VEVENT
DTSTART;VALUE=DATE:20250310
DTEND;VALUE=DATE:20250311
DTSTAMP:20260421T112826
CREATED:20250310T143830Z
LAST-MODIFIED:20250310T143830Z
UID:3881-1741564800-1741651199@www.vassormi.ro
SUMMARY:Pachet 4 webinarii de toamnă
DESCRIPTION:
URL:https://www.vassormi.ro/eveniment/pachet-4-webinarii-de-toamna/
LOCATION:On-line
CATEGORIES:Evenimente 2025,Holistic Shop
ATTACH;FMTTYPE=image/png:https://www.vassormi.ro/wp-content/uploads/2025/03/Pachet-4-webinarii-de-toamna.png
END:VEVENT
BEGIN:VEVENT
DTSTART;VALUE=DATE:20250310
DTEND;VALUE=DATE:20250311
DTSTAMP:20260421T112826
CREATED:20250310T143505Z
LAST-MODIFIED:20250310T143505Z
UID:3876-1741564800-1741651199@www.vassormi.ro
SUMMARY:Pachet 3 webinarii de primăvară cu Dr. Sorina Soescu
DESCRIPTION:
URL:https://www.vassormi.ro/eveniment/pachet-3-webinarii-de-primavara-cu-dr-sorina-soescu-2/
LOCATION:On-line
CATEGORIES:Evenimente 2025,Holistic Shop
ATTACH;FMTTYPE=image/png:https://www.vassormi.ro/wp-content/uploads/2025/03/Pachet-3-webinarii-de-primavara-1.png
END:VEVENT
BEGIN:VEVENT
DTSTART;TZID=UTC:20250220T190000
DTEND;TZID=UTC:20250220T210000
DTSTAMP:20260421T112826
CREATED:20250105T090133Z
LAST-MODIFIED:20250122T095514Z
UID:3666-1740078000-1740085200@www.vassormi.ro
SUMMARY:Digerăm? Cum să-ți înțelegi și să-ți echilibrezi sistemul digestiv
DESCRIPTION:
URL:https://www.vassormi.ro/eveniment/digeram-cum-sa-ti-intelegi-si-sa-ti-echilibrezi-sistemul-digestiv/
LOCATION:On-line
CATEGORIES:Evenimente 2025,Holistic Shop
ATTACH;FMTTYPE=image/png:https://www.vassormi.ro/wp-content/uploads/2025/01/Webinar-Digeram_februarie-768x644-1.png
END:VEVENT
BEGIN:VEVENT
DTSTART;TZID=UTC:20250214T190000
DTEND;TZID=UTC:20250214T210000
DTSTAMP:20260421T112826
CREATED:20250105T090031Z
LAST-MODIFIED:20250105T104809Z
UID:2929-1739559600-1739566800@www.vassormi.ro
SUMMARY:Inima: fabrica de iubire
DESCRIPTION:
URL:https://www.vassormi.ro/eveniment/inima-fabrica-de-iubire/
LOCATION:On-line
CATEGORIES:Alexa Events,Evenimente 2025
ATTACH;FMTTYPE=image/jpeg:https://www.vassormi.ro/wp-content/uploads/2024/12/WhatsApp-Image-2024-12-14-at-11.16.41_b34f0d54.jpg
END:VEVENT
END:VCALENDAR